BEGIN:VCALENDAR
VERSION:2.0
PRODID:-//AudioTheme 2.3.8
BEGIN:VEVENT
UID:https://www.kelleysuttenfield.com/?post_type=audiotheme_gig&#038;p=619
URL:https://www.kelleysuttenfield.com/shows/jazz-quintet-in-concert-10/
DTSTART;TZID=GMT:20110722T233000
SUMMARY:Jazz Quintet in Concert
DESCRIPTION:Jazz Quintet in Concert
LOCATION:Somethin' Jazz Club\, 212 East 52nd Street\, 3rd Floor\, New York\, NY\, USA\, 10022
END:VEVENT
END:VCALENDAR
