BEGIN:VCALENDAR
VERSION:2.0
PRODID:-//AudioTheme 2.3.8
BEGIN:VEVENT
UID:https://www.kelleysuttenfield.com/?post_type=audiotheme_gig&#038;p=620
URL:https://www.kelleysuttenfield.com/shows/jazz-quintet-in-concert-11/
DTSTART;TZID=GMT:20110811T000000
SUMMARY:Jazz Quintet in Concert
DESCRIPTION:Jazz Quintet in Concert
LOCATION:Jazz at Kitano\, 66 Park Avenue\, New York\, NY\, USA\, 10016
END:VEVENT
END:VCALENDAR
