BEGIN:VCALENDAR
VERSION:2.0
PRODID:-//AudioTheme 2.3.8
BEGIN:VEVENT
UID:https://www.kelleysuttenfield.com/?post_type=audiotheme_gig&#038;p=653
URL:https://www.kelleysuttenfield.com/shows/jazz-quintet-in-concert-13/
DTSTART;TZID=GMT:20101030T000000
SUMMARY:Jazz Quintet in Concert
DESCRIPTION:Jazz Quintet in Concert
LOCATION:Amazing Things Arts Center\, 160 Hollis St\, Framingham\, MA\, USA\, 01702 
END:VEVENT
END:VCALENDAR
