BEGIN:VCALENDAR
VERSION:2.0
PRODID:-//AudioTheme 2.3.8
BEGIN:VEVENT
UID:https://www.kelleysuttenfield.com/?post_type=audiotheme_gig&#038;p=687
URL:https://www.kelleysuttenfield.com/shows/jazz-quintet-in-concert-15/
DTSTART;TZID=GMT:20150411T233000
SUMMARY:Jazz Quintet in Concert
DESCRIPTION:Jazz Quintet in Concert
LOCATION:Germano's\, 300 South High Street\, Baltimore\, MD\, USA\, 21202
END:VEVENT
END:VCALENDAR
