BEGIN:VCALENDAR
VERSION:2.0
PRODID:-//AudioTheme 2.3.8
BEGIN:VEVENT
UID:https://www.kelleysuttenfield.com/?post_type=audiotheme_gig&#038;p=1035
URL:https://www.kelleysuttenfield.com/shows/jazz-quintet-in-concert-19/
DTSTART;TZID=GMT:20160912T233000
SUMMARY:Jazz Quintet in Concert
DESCRIPTION:Jazz Quintet in Concert
LOCATION:Zinc Bar\, 82 West 3rd Street\, New York\, NY\, USA\, 10012 
END:VEVENT
END:VCALENDAR
