BEGIN:VCALENDAR
VERSION:2.0
PRODID:-//AudioTheme 2.3.8
BEGIN:VEVENT
UID:https://www.kelleysuttenfield.com/?post_type=audiotheme_gig&#038;p=618
URL:https://www.kelleysuttenfield.com/shows/jazz-quintet-in-concert-9/
DTSTART;TZID=GMT:20110626T190000
SUMMARY:Jazz Quintet in Concert
DESCRIPTION:Jazz Quintet in Concert
LOCATION:Howland Cultural Center\, 477 Main St\, Beacon\, NY\, USA\, 12508
END:VEVENT
END:VCALENDAR
