BEGIN:VCALENDAR
VERSION:2.0
PRODID:-//AudioTheme 2.3.8
BEGIN:VEVENT
UID:https://www.kelleysuttenfield.com/?post_type=audiotheme_gig&#038;p=654
URL:https://www.kelleysuttenfield.com/shows/jazz-quintet-in-concert-cd-release-celebration/
DTSTART;TZID=GMT:20100730T000000
SUMMARY:Jazz Quintet in Concert - CD Release Celebration!
DESCRIPTION:Jazz Quintet in Concert - CD Release Celebration!
LOCATION:Jazz at Kitano\, 66 Park Avenue\, New York\, NY\, USA\, 10016
END:VEVENT
END:VCALENDAR
