BEGIN:VCALENDAR
VERSION:2.0
PRODID:-//AudioTheme 2.3.8
BEGIN:VEVENT
UID:https://www.kelleysuttenfield.com/?post_type=audiotheme_gig&#038;p=638
URL:https://www.kelleysuttenfield.com/shows/jazz-quintet-in-concert-cd-release-mini-concert/
DTSTART;TZID=GMT:20100301T230000
SUMMARY:Jazz Quintet in Concert - CD Release Mini-Concert
DESCRIPTION:Jazz Quintet in Concert - CD Release Mini-Concert
LOCATION:Barnes & Noble\, 1972 Broadway\, New York\, NY\, USA\, 10023
END:VEVENT
END:VCALENDAR
