BEGIN:VCALENDAR
VERSION:2.0
PRODID:-//AudioTheme 2.3.8
BEGIN:VEVENT
UID:https://www.kelleysuttenfield.com/?post_type=audiotheme_gig&#038;p=613
URL:https://www.kelleysuttenfield.com/shows/jazz-quintet-in-concert-long-island-winterfest-jazz-on-the-vine/
DTSTART;TZID=GMT:20110319T203000
SUMMARY:Jazz Quintet in Concert - Long Island Winterfest: Jazz on the Vine
DESCRIPTION:Jazz Quintet in Concert - Long Island Winterfest: Jazz on the Vine
LOCATION:Macari Vineyards\, 150 Bergen Avenue\, Mattituck\, NY\, USA\, 11952 
END:VEVENT
END:VCALENDAR
