BEGIN:VCALENDAR
VERSION:2.0
PRODID:-//AudioTheme 2.3.8
BEGIN:VEVENT
UID:https://www.kelleysuttenfield.com/?post_type=audiotheme_gig&#038;p=616
URL:https://www.kelleysuttenfield.com/shows/jazz-quintet-in-concert-moon-dancer-winery-jazz-festival/
DTSTART;TZID=GMT:20110529T230000
SUMMARY:Jazz Quintet in Concert - Moon Dancer Winery Jazz Festival
DESCRIPTION:Jazz Quintet in Concert - Moon Dancer Winery Jazz Festival
LOCATION:Moon Dancer Vineyards and Winery\, 1282 Klines Run Rd\, Wrightsville\, PA\, USA\, 17368    
END:VEVENT
END:VCALENDAR
