BEGIN:VCALENDAR
VERSION:2.0
PRODID:-//AudioTheme 2.3.8
BEGIN:VEVENT
UID:http://ksuttenfield.booyahcreative.com/?post_type=audiotheme_gig&#038;p=348
URL:https://www.kelleysuttenfield.com/shows/jazz-quintet-in-concert/
DTSTART;TZID=GMT:20141018T230000
SUMMARY:Jazz Quintet in Concert
DESCRIPTION:Jazz Quintet in Concert  
LOCATION:Sunnyside Reformed Church\, 48-03 Skillman Avenue  (at 48th Street) \, Sunnyside\, NY\, USA\, 11104
END:VEVENT
END:VCALENDAR
