BEGIN:VCALENDAR
VERSION:2.0
PRODID:-//AudioTheme 2.3.8
BEGIN:VEVENT
UID:https://www.kelleysuttenfield.com/?post_type=audiotheme_gig&#038;p=594
URL:https://www.kelleysuttenfield.com/shows/jazz-quintet-wine-festival/
DTSTART;TZID=GMT:20131005T163000
SUMMARY:Jazz Quintet - Wine Festival
DESCRIPTION:Jazz Quintet - Wine Festival
LOCATION:Bethel Woods Center for the Arts\, 200 Hurd Rd\, Bethel\, NY\, USA\, 12720
END:VEVENT
END:VCALENDAR
