BEGIN:VCALENDAR
VERSION:2.0
PRODID:-//AudioTheme 2.3.8
BEGIN:VEVENT
UID:https://www.kelleysuttenfield.com/?post_type=audiotheme_gig&#038;p=1178
URL:https://www.kelleysuttenfield.com/shows/jazz-quintet/
DTSTART;TZID=GMT:20170417T230000
SUMMARY:Jazz quintet
DESCRIPTION:Jazz quintet
LOCATION:Zinc Bar\, 82 West 3rd Street\, New York\, NY\, USA\, 10012 
END:VEVENT
END:VCALENDAR
