BEGIN:VCALENDAR
VERSION:2.0
PRODID:-//AudioTheme 2.3.8
BEGIN:VEVENT
UID:https://www.kelleysuttenfield.com/?post_type=audiotheme_gig&#038;p=883
URL:https://www.kelleysuttenfield.com/shows/jazz-trio-10/
DTSTART;TZID=GMT:20151016T210000
SUMMARY:Jazz Trio
DESCRIPTION:Jazz Trio
LOCATION:El Despertar\, Calle Torrecilla del Leal\, 18 \, Madrid\, \, SPAIN\, 28012 
END:VEVENT
END:VCALENDAR
