BEGIN:VCALENDAR
VERSION:2.0
PRODID:-//AudioTheme 2.3.8
BEGIN:VEVENT
UID:https://www.kelleysuttenfield.com/?post_type=audiotheme_gig&#038;p=1140
URL:https://www.kelleysuttenfield.com/shows/jazz-trio-11/
DTSTART;TZID=GMT:20170116T023000
SUMMARY:Jazz Trio
DESCRIPTION:Jazz and country
LOCATION:The Rum House\, Hotel Edison\, 228 W 47th St\, New York\, NY\, 10036
END:VEVENT
END:VCALENDAR
