BEGIN:VCALENDAR
VERSION:2.0
PRODID:-//AudioTheme 2.3.8
BEGIN:VEVENT
UID:https://www.kelleysuttenfield.com/?post_type=audiotheme_gig&#038;p=1921
URL:https://www.kelleysuttenfield.com/shows/jazz-trio-12/
DTSTART;TZID=GMT:20191026T183000
SUMMARY:Jazz Trio
DESCRIPTION:Featured set with Hanaria Houria Jazz Trio
LOCATION:Osmoz Café\, 33 rue de l'Ouest\, Paris\, \, France\, 75014 
END:VEVENT
END:VCALENDAR
