BEGIN:VCALENDAR
VERSION:2.0
PRODID:-//AudioTheme 2.3.8
BEGIN:VEVENT
UID:urn:uuid:5caa8727-cb9c-49fc-a930-7ca87c279ce8
URL:https://www.kelleysuttenfield.com/shows/jazz-trio-13/
DTSTART;TZID=GMT:20231208T193000
SUMMARY:Jazz Duo
LOCATION:Reineta\, Dickens Yard\, Longfield Avenue\, London\, England\, United Kingdom\, W5 2TD
END:VEVENT
END:VCALENDAR
