BEGIN:VCALENDAR
VERSION:2.0
PRODID:-//AudioTheme 2.3.8
BEGIN:VEVENT
UID:urn:uuid:fe95c448-7f5f-41f1-b308-93f8f74a36f2
URL:https://www.kelleysuttenfield.com/shows/jazz-trio-14/
DTSTART;TZID=GMT:20240216T193000
SUMMARY:Jazz Duo
LOCATION:Reineta\, Dickens Yard\, Longfield Avenue\, London\, England\, United Kingdom\, W5 2TD
END:VEVENT
END:VCALENDAR
