BEGIN:VCALENDAR
VERSION:2.0
PRODID:-//AudioTheme 2.3.8
BEGIN:VEVENT
UID:urn:uuid:271d7bbc-f328-4c65-9fd3-20a3686da62e
URL:https://www.kelleysuttenfield.com/shows/jazz-trio-15/
DTSTART;TZID=GMT:20260501T223000
SUMMARY:Jazz Trio
DESCRIPTION:Nomad's top live music lounge\, restaurant\, and rooftop terrace.
LOCATION:The Ivy Room\, Royalton Park Avenue\, 420 Park Avenue South (29th and Park)\, New York\, New York\, United States\, 10016
END:VEVENT
END:VCALENDAR
