BEGIN:VCALENDAR
VERSION:2.0
PRODID:-//AudioTheme 2.3.8
BEGIN:VEVENT
UID:https://www.kelleysuttenfield.com/?post_type=audiotheme_gig&#038;p=569
URL:https://www.kelleysuttenfield.com/shows/jazz-trio-2/
DTSTART;TZID=GMT:20140613T190000
SUMMARY:Jazz Trio
DESCRIPTION:Jazz Trio
LOCATION:Swan Bar\, 165 Bd du Montparnasse  \, Paris\, France\, France\, 75006 
END:VEVENT
END:VCALENDAR
