BEGIN:VCALENDAR
VERSION:2.0
PRODID:-//AudioTheme 2.3.8
BEGIN:VEVENT
UID:https://www.kelleysuttenfield.com/?post_type=audiotheme_gig&#038;p=589
URL:https://www.kelleysuttenfield.com/shows/jazz-trio-4/
DTSTART;TZID=GMT:20130328T000000
SUMMARY:Jazz Trio
DESCRIPTION:Jazz Trio
LOCATION:Sidewalk\, 94 Avenue A\, New York\, NY\, USA\, 10009
END:VEVENT
END:VCALENDAR
