BEGIN:VCALENDAR
VERSION:2.0
PRODID:-//AudioTheme 2.3.8
BEGIN:VEVENT
UID:https://www.kelleysuttenfield.com/?post_type=audiotheme_gig&#038;p=591
URL:https://www.kelleysuttenfield.com/shows/jazz-trio-5/
DTSTART;TZID=GMT:20130712T000000
SUMMARY:Jazz Trio
DESCRIPTION:Jazz Trio
LOCATION:Jazz at the Inkwell\, 1165 Bedford Avenue\, Brooklyn\, NY\, USA\, 11216
END:VEVENT
END:VCALENDAR
