BEGIN:VCALENDAR
VERSION:2.0
PRODID:-//AudioTheme 2.3.8
BEGIN:VEVENT
UID:https://www.kelleysuttenfield.com/?post_type=audiotheme_gig&#038;p=600
URL:https://www.kelleysuttenfield.com/shows/jazz-trio-7/
DTSTART;TZID=GMT:20120403T230000
SUMMARY:Jazz Trio
DESCRIPTION:Jazz Trio
LOCATION:Pigalle\, 790 8th Avenue\, New York\, NY\, USA\, 10019
END:VEVENT
END:VCALENDAR
