BEGIN:VCALENDAR
VERSION:2.0
PRODID:-//AudioTheme 2.3.8
BEGIN:VEVENT
UID:https://www.kelleysuttenfield.com/?post_type=audiotheme_gig&#038;p=651
URL:https://www.kelleysuttenfield.com/shows/jazz-trio-8/
DTSTART;TZID=GMT:20100718T030000
SUMMARY:Jazz Trio
DESCRIPTION:Jazz Trio
LOCATION:Bootlegger Bistro\, 7700 S Las Vegas Blvd\, Las Vegas\, NV\, USA\, 89123
END:VEVENT
END:VCALENDAR
