BEGIN:VCALENDAR
VERSION:2.0
PRODID:-//AudioTheme 2.3.8
BEGIN:VEVENT
UID:https://www.kelleysuttenfield.com/?post_type=audiotheme_gig&#038;p=652
URL:https://www.kelleysuttenfield.com/shows/jazz-trio-9/
DTSTART;TZID=GMT:20100811T220000
SUMMARY:Jazz Trio
DESCRIPTION:Jazz Trio
LOCATION:The Settlers Inn\, 4 Main Avenue\, Hawley\, PA \, USA\, 18428
END:VEVENT
END:VCALENDAR
