BEGIN:VCALENDAR
VERSION:2.0
PRODID:-//AudioTheme 2.3.8
BEGIN:VEVENT
UID:https://www.kelleysuttenfield.com/?post_type=audiotheme_gig&#038;p=833
URL:https://www.kelleysuttenfield.com/shows/jazz-trio-annual-jazz-on-the-deck-series/
DTSTART;TZID=GMT:20150722T220000
SUMMARY:Jazz Trio - "Jazz on the Deck" Summer Concert Series
DESCRIPTION:Jazz Trio - "Jazz on the Deck" Summer Concert Series
LOCATION:The Settlers Inn\, 4 Main Avenue\, Hawley\, PA \, USA\, 18428
END:VEVENT
END:VCALENDAR
