BEGIN:VCALENDAR
VERSION:2.0
PRODID:-//AudioTheme 2.3.8
BEGIN:VEVENT
UID:https://www.kelleysuttenfield.com/?post_type=audiotheme_gig&#038;p=566
URL:https://www.kelleysuttenfield.com/shows/jazz-trio-brunch/
DTSTART;TZID=GMT:20140511T160000
SUMMARY:Jazz Quartet - Brunch
DESCRIPTION:Jazz Quartet - Brunch
LOCATION:Desmond's Steakhouse\, 513 7th Avenue\, New York\, NY\, USA\, 10018
END:VEVENT
END:VCALENDAR
