BEGIN:VCALENDAR
VERSION:2.0
PRODID:-//AudioTheme 2.3.8
BEGIN:VEVENT
UID:https://www.kelleysuttenfield.com/?post_type=audiotheme_gig&#038;p=617
URL:https://www.kelleysuttenfield.com/shows/jazz-trio-fete-de-la-musique/
DTSTART;TZID=GMT:20110621T210000
SUMMARY:Jazz Trio - Fête de la Musique
DESCRIPTION:Jazz Trio - Fête de la Musique
LOCATION:Gaby Bar\, 44 West 45th Street\, New York\, NY\, USA\, 10036
END:VEVENT
END:VCALENDAR
