BEGIN:VCALENDAR
VERSION:2.0
PRODID:-//AudioTheme 2.3.8
BEGIN:VEVENT
UID:https://www.kelleysuttenfield.com/?post_type=audiotheme_gig&#038;p=970
URL:https://www.kelleysuttenfield.com/shows/jazz-trio-jazz-on-the-deck-summer-concert-series/
DTSTART;TZID=GMT:20160713T220000
SUMMARY:Jazz Trio - "Jazz on the Deck" Summer Concert Series
DESCRIPTION:Jazz Trio - "Jazz on the Deck" Summer Concert Series
LOCATION:The Settlers Inn\, 4 Main Avenue\, Hawley\, PA \, USA\, 18428
END:VEVENT
END:VCALENDAR
