BEGIN:VCALENDAR
VERSION:2.0
PRODID:-//AudioTheme 2.3.8
BEGIN:VEVENT
UID:https://www.kelleysuttenfield.com/?post_type=audiotheme_gig&#038;p=623
URL:https://www.kelleysuttenfield.com/shows/jazz-trio-mondays-with-the-masters-a-concert-series-3/
DTSTART;TZID=GMT:20111003T230000
SUMMARY:Jazz Trio - Mondays with the Masters: A Concert Series
DESCRIPTION:Jazz Trio - Mondays with the Masters: A Concert Series
LOCATION:Metropolitan Room\, 34 W 22nd Street\, New York\, NY\, USA\, 10010
END:VEVENT
END:VCALENDAR
