BEGIN:VCALENDAR
VERSION:2.0
PRODID:-//AudioTheme 2.3.8
BEGIN:VEVENT
UID:https://www.kelleysuttenfield.com/?post_type=audiotheme_gig&#038;p=657
URL:https://www.kelleysuttenfield.com/shows/jazz-trio-new-years-eve-2/
DTSTART;TZID=GMT:20110101T010000
SUMMARY:Jazz Trio - New Year's Eve!
DESCRIPTION:Jazz Trio - New Year's Eve!
LOCATION:The Settlers Inn\, 4 Main Avenue\, Hawley\, PA \, USA\, 18428
END:VEVENT
END:VCALENDAR
