BEGIN:VCALENDAR
VERSION:2.0
PRODID:-//AudioTheme 2.3.8
BEGIN:VEVENT
UID:http://ksuttenfield.booyahcreative.com/?post_type=audiotheme_gig&#038;p=349
URL:https://www.kelleysuttenfield.com/shows/jazz-trio-vintage-and-original-tunes/
DTSTART;TZID=GMT:20141025T000000
SUMMARY:Jazz Trio - Vintage, Traditional, and Original Tunes 
DESCRIPTION:Jazz Trio - Vintage\, Traditional\, and Original Tunes 
LOCATION:Amuse Wine Bar\, 121 Ludlow Street   (bet Delancey and Rivington) \, New York\, NY\, USA\, 10002
END:VEVENT
END:VCALENDAR
