BEGIN:VCALENDAR
VERSION:2.0
PRODID:-//AudioTheme 2.3.8
BEGIN:VEVENT
UID:https://www.kelleysuttenfield.com/?post_type=audiotheme_gig&#038;p=854
URL:https://www.kelleysuttenfield.com/shows/jazz-trio-vintage-jazz-traditionals-and-original-music/
DTSTART;TZID=GMT:20150801T000000
SUMMARY:Jazz Trio - Vintage jazz, traditionals, and original music
DESCRIPTION:Jazz Trio - Vintage jazz\, traditionals\, and original music
LOCATION:Amuse Wine Bar\, 121 Ludlow Street   (bet Delancey and Rivington) \, New York\, NY\, USA\, 10002
END:VEVENT
END:VCALENDAR
