BEGIN:VCALENDAR
VERSION:2.0
PRODID:-//AudioTheme 2.3.8
BEGIN:VEVENT
UID:https://www.kelleysuttenfield.com/?post_type=audiotheme_gig&#038;p=564
URL:https://www.kelleysuttenfield.com/shows/jazz-trio/
DTSTART;TZID=GMT:20140302T173000
SUMMARY:Jazz Trio - Brunch
DESCRIPTION:Jazz Trio - Brunch
LOCATION:North Square Restaurant and Lounge\, 103 Waverly Place\, New York\, NY\, USA\, 10011
END:VEVENT
END:VCALENDAR
