BEGIN:VCALENDAR
VERSION:2.0
PRODID:-//AudioTheme 2.3.8
BEGIN:VEVENT
UID:https://www.kelleysuttenfield.com/?post_type=audiotheme_gig&#038;p=517
URL:https://www.kelleysuttenfield.com/shows/live-radio-interview-and-performance-2/
DTSTART;TZID=GMT:20141201T000000
SUMMARY:Live Radio Interview and Performance
DESCRIPTION:Live Radio Interview and Performance
LOCATION:Sweet Sounds with Ron Forman\, WKRB 90.3 FM\, Brooklyn\, NY
END:VEVENT
END:VCALENDAR
