BEGIN:VCALENDAR
VERSION:2.0
PRODID:-//AudioTheme 2.3.8
BEGIN:VEVENT
UID:http://ksuttenfield.booyahcreative.com/?post_type=audiotheme_gig&#038;p=351
URL:https://www.kelleysuttenfield.com/shows/live-radio-interview-and-performance/
DTSTART;TZID=GMT:20141124T200000
SUMMARY:Live Radio Interview and Performance 
DESCRIPTION:Live Radio Interview and Performance 
LOCATION:The Jazz Cafe with John Bohannon\, WHRU 88.7 FM \, Hempstead\, NY\, USA\, 11549
END:VEVENT
END:VCALENDAR
