BEGIN:VCALENDAR
VERSION:2.0
PRODID:-//AudioTheme 2.3.8
BEGIN:VEVENT
UID:https://www.kelleysuttenfield.com/?post_type=audiotheme_gig&#038;p=1244
URL:https://www.kelleysuttenfield.com/shows/love-songs-for-cello-and-guitar/
DTSTART;TZID=GMT:20170822T020000
SUMMARY:Love Songs for Cello and Guitar
DESCRIPTION:VoxEcstatic Series
LOCATION:Cornelia Street Underground at Cornelia Street Cafe\, 29 Cornelia Street\, New York\, NY\, 10014
END:VEVENT
END:VCALENDAR
