BEGIN:VCALENDAR
VERSION:2.0
PRODID:-//AudioTheme 2.3.8
BEGIN:VEVENT
UID:https://www.kelleysuttenfield.com/?post_type=audiotheme_gig&#038;p=1286
URL:https://www.kelleysuttenfield.com/shows/love-songs-for-guitar-and-cello/
DTSTART;TZID=GMT:20180119T230000
SUMMARY:Love Songs for Guitar and Cello
DESCRIPTION:Love Songs for Cello and Guitar
LOCATION:Cornelia Street Underground at Cornelia Street Cafe\, 29 Cornelia Street\, New York\, NY\, 10014
END:VEVENT
END:VCALENDAR
