BEGIN:VCALENDAR
VERSION:2.0
PRODID:-//AudioTheme 2.3.8
BEGIN:VEVENT
UID:https://www.kelleysuttenfield.com/?post_type=audiotheme_gig&#038;p=1095
URL:https://www.kelleysuttenfield.com/shows/motown-christmas-concert-for-the-haven-london/
DTSTART;TZID=GMT:20161208T190000
SUMMARY:Motown Christmas Concert for The Haven + London
DESCRIPTION:Motown Christmas Concert for The Haven + London  Guest of Mo Pleasure
LOCATION:St Giles in the Fields\, 60 St Giles High Street \, London\, England\, United Kingdom\, WC2H 8LG
END:VEVENT
END:VCALENDAR
