BEGIN:VCALENDAR
VERSION:2.0
PRODID:-//AudioTheme 2.3.8
BEGIN:VEVENT
UID:https://www.kelleysuttenfield.com/?post_type=audiotheme_gig&#038;p=648
URL:https://www.kelleysuttenfield.com/shows/private-engagement-house-concert-3/
DTSTART;TZID=GMT:20100703T120000
SUMMARY:Private Engagement - House Concert
DESCRIPTION:Private Engagement - House Concert
LOCATION:Rørvig\, Denmark\, Rørvig\, Denmark\, Denmark
END:VEVENT
END:VCALENDAR
