BEGIN:VCALENDAR
VERSION:2.0
PRODID:-//AudioTheme 2.3.8
BEGIN:VEVENT
UID:https://www.kelleysuttenfield.com/?post_type=audiotheme_gig&#038;p=568
URL:https://www.kelleysuttenfield.com/shows/private-engagement-house-concert/
DTSTART;TZID=GMT:20140907T230000
SUMMARY:Private Engagement - House Concert
DESCRIPTION:Private Engagement - House Concert
LOCATION:Neptune\, NJ\, Neptune\, NJ
END:VEVENT
END:VCALENDAR
