BEGIN:VCALENDAR
VERSION:2.0
PRODID:-//AudioTheme 2.3.8
BEGIN:VEVENT
UID:https://www.kelleysuttenfield.com/?post_type=audiotheme_gig&#038;p=567
URL:https://www.kelleysuttenfield.com/shows/private-engagement/
DTSTART;TZID=GMT:20140531T180000
SUMMARY:Private Engagement
DESCRIPTION:Private Engagement
LOCATION:New York\, NY\, New York\, NY\, USA
END:VEVENT
END:VCALENDAR
