BEGIN:VCALENDAR
VERSION:2.0
PRODID:-//AudioTheme 2.3.8
BEGIN:VEVENT
UID:urn:uuid:d98eaf3b-13fe-40cb-9b6e-545029781a79
URL:https://www.kelleysuttenfield.com/shows/private-event/
DTSTART;TZID=GMT:20231005T170000
SUMMARY:Jazz trio
DESCRIPTION:A private event for NHS
LOCATION:NHS\, London\, England\, United Kingdom
END:VEVENT
END:VCALENDAR
