BEGIN:VCALENDAR
VERSION:2.0
PRODID:-//AudioTheme 2.3.8
BEGIN:VEVENT
UID:https://www.kelleysuttenfield.com/?post_type=audiotheme_gig&#038;p=960
URL:https://www.kelleysuttenfield.com/shows/private-house-concert/
DTSTART;TZID=GMT:20160611T180000
SUMMARY:Private Concert
DESCRIPTION:Private Concert
LOCATION:White Hill House\, Chesham\, England\, United Kingdom
END:VEVENT
END:VCALENDAR
