BEGIN:VCALENDAR
VERSION:2.0
PRODID:-//AudioTheme 2.3.8
BEGIN:VEVENT
UID:https://www.kelleysuttenfield.com/?post_type=audiotheme_gig&#038;p=1021
URL:https://www.kelleysuttenfield.com/shows/que-the-music-wednesdays/
DTSTART;TZID=GMT:20160616T000000
SUMMARY:Que the Music Wednesdays
DESCRIPTION:"Que the Music"
LOCATION:The Troubadour\, 263-267 Old Brompton Rd\, London\, England\, United Kingdom\, SW5 9JA
END:VEVENT
END:VCALENDAR
