BEGIN:VCALENDAR
VERSION:2.0
PRODID:-//AudioTheme 2.3.8
BEGIN:VEVENT
UID:https://www.kelleysuttenfield.com/?post_type=audiotheme_gig&#038;p=2003
URL:https://www.kelleysuttenfield.com/shows/radio-interview-live-on-air-2/
DTSTART;TZID=GMT:20191119T210000
SUMMARY:Radio Interview: Live On Air
DESCRIPTION:Radio Interview: Live On Air
LOCATION:iTS JAZZzz\, KGLP is a National Public Radio-affiliated radio station in Gallup\, New Mexico. The station's programming includes a mix of local shows and National Public Radio programming. The station broadcasts from the University of New Mexico branch campus in Gallup. \, Gallup\, NM
END:VEVENT
END:VCALENDAR
