BEGIN:VCALENDAR
VERSION:2.0
PRODID:-//AudioTheme 2.3.8
BEGIN:VEVENT
UID:https://www.kelleysuttenfield.com/?post_type=audiotheme_gig&#038;p=2005
URL:https://www.kelleysuttenfield.com/shows/radio-interview-live-on-air-3/
DTSTART;TZID=GMT:20191107T213000
SUMMARY:Radio Interview: Live On Air
DESCRIPTION:Radio Interview: Live On Air
LOCATION:Jazz Groove\, KVRF 89.5 FM is a community radio station licensed to Sutton\, Alaska. The station airs a wide variety of music\, including classical\, folk\, country\, bluegrass\, blues\, jazz\, soul\, new-age and tropical\, as well as local and national shows. KVRF is owned by Radio Free Palmer\, Inc.\, Palmer\, AK
END:VEVENT
END:VCALENDAR
