BEGIN:VCALENDAR
VERSION:2.0
PRODID:-//AudioTheme 2.3.8
BEGIN:VEVENT
UID:https://www.kelleysuttenfield.com/?post_type=audiotheme_gig&#038;p=2000
URL:https://www.kelleysuttenfield.com/shows/radio-interview-live-on-air/
DTSTART;TZID=GMT:20200107T183000
SUMMARY:Radio Interview: Live On Air
DESCRIPTION:Radio Interview: Live On Air
LOCATION:Tuesday Lunch With Abe Perlstein\, Morro Bay\, CA
END:VEVENT
END:VCALENDAR
