BEGIN:VCALENDAR
VERSION:2.0
PRODID:-//AudioTheme 2.3.8
BEGIN:VEVENT
UID:https://www.kelleysuttenfield.com/?post_type=audiotheme_gig&#038;p=919
URL:https://www.kelleysuttenfield.com/shows/recording-session/
DTSTART;VALUE=DATE:20160321
SUMMARY:Recording Session!
DESCRIPTION:Recording Session!
LOCATION:Private Studio\, New York\, NY
END:VEVENT
END:VCALENDAR
