BEGIN:VCALENDAR
VERSION:2.0
PRODID:-//AudioTheme 2.3.8
BEGIN:VEVENT
UID:https://www.kelleysuttenfield.com/?post_type=audiotheme_gig&#038;p=1558
URL:https://www.kelleysuttenfield.com/shows/singin-and-swingin/
DTSTART;TZID=GMT:20190129T023000
SUMMARY:CANCELLED
DESCRIPTION:CANCELLED
LOCATION:The Rum House\, Hotel Edison\, 228 W 47th St\, New York\, NY\, 10036
END:VEVENT
END:VCALENDAR
